BEGIN:VCALENDAR
VERSION:2.0
PRODID:-//Team Provence Endurance - ECPv6.15.20//NONSGML v1.0//EN
CALSCALE:GREGORIAN
METHOD:PUBLISH
X-ORIGINAL-URL:https://teamprovenceendurance.fr
X-WR-CALDESC:Évènements pour Team Provence Endurance
REFRESH-INTERVAL;VALUE=DURATION:PT1H
X-Robots-Tag:noindex
X-PUBLISHED-TTL:PT1H
BEGIN:VTIMEZONE
TZID:Europe/Paris
BEGIN:DAYLIGHT
TZOFFSETFROM:+0100
TZOFFSETTO:+0200
TZNAME:CEST
DTSTART:20160327T010000
END:DAYLIGHT
BEGIN:STANDARD
TZOFFSETFROM:+0200
TZOFFSETTO:+0100
TZNAME:CET
DTSTART:20161030T010000
END:STANDARD
BEGIN:DAYLIGHT
TZOFFSETFROM:+0100
TZOFFSETTO:+0200
TZNAME:CEST
DTSTART:20170326T010000
END:DAYLIGHT
BEGIN:STANDARD
TZOFFSETFROM:+0200
TZOFFSETTO:+0100
TZNAME:CET
DTSTART:20171029T010000
END:STANDARD
BEGIN:DAYLIGHT
TZOFFSETFROM:+0100
TZOFFSETTO:+0200
TZNAME:CEST
DTSTART:20180325T010000
END:DAYLIGHT
BEGIN:STANDARD
TZOFFSETFROM:+0200
TZOFFSETTO:+0100
TZNAME:CET
DTSTART:20181028T010000
END:STANDARD
END:VTIMEZONE
BEGIN:VEVENT
DTSTART;TZID=Europe/Paris:20171028T080000
DTEND;TZID=Europe/Paris:20171101T170000
DTSTAMP:20260422T051538
CREATED:20170426T083116Z
LAST-MODIFIED:20170426T083116Z
UID:1796-1509177600-1509555600@teamprovenceendurance.fr
SUMMARY:Stage Hivernal Trail / Prépa Physique 2017/2018
DESCRIPTION:Venez préparer votre saison Trail 2018 dans un cadre extraordinaire. \nA travers les Cinque Terre\, villages idylliques d’Italie\, venez parfaire votre préparation : \n\nTravail technique en Descente\nInterventions sur la Nutrition\nInitiations à la préparation physique générale\nRando/Course à Travers les 5 villages\n\nDe plus si la demande est importante des entrainements en cyclisme traditionnel pourront être prévus avec encadrement par des entraineurs professionnels et sécurité d’une ou deux voitures suiveuses. \nRéservez vite votre place !
URL:https://teamprovenceendurance.fr/evenement/stage-hivernal-trail-prepa-physique-20172018/
ATTACH;FMTTYPE=image/png:https://teamprovenceendurance.fr/wp-content/uploads/2017/04/stage.png
END:VEVENT
BEGIN:VEVENT
DTSTART;TZID=Europe/Paris:20171118T130000
DTEND;TZID=Europe/Paris:20171118T180000
DTSTAMP:20260422T051538
CREATED:20171114T140053Z
LAST-MODIFIED:20171114T140245Z
UID:2457-1511010000-1511028000@teamprovenceendurance.fr
SUMMARY:La Blade run de Bouc  Bel Air
DESCRIPTION:Guilhem GERARD\, Aurélie et Franck GUERRA seront au départ.
URL:https://teamprovenceendurance.fr/evenement/blade-run-de-bouc-bel-air/
ATTACH;FMTTYPE=image/jpeg:https://teamprovenceendurance.fr/wp-content/uploads/2017/11/La-Blade-Run_bouc-Bel-Air.jpg
END:VEVENT
BEGIN:VEVENT
DTSTART;TZID=Europe/Paris:20171119T073000
DTEND;TZID=Europe/Paris:20171119T160000
DTSTAMP:20260422T051538
CREATED:20171114T135740Z
LAST-MODIFIED:20171114T142815Z
UID:2451-1511076600-1511107200@teamprovenceendurance.fr
SUMMARY:Les 10 km de La Provence
DESCRIPTION:Participeront aux 10k de Marseille : \n\nCOMTAT Cyril\, KOMINO Peio\, MAUMUS Rémy\, BONDURAND Clément et DELMI-DEYIRMENDJIAN Nicolas
URL:https://teamprovenceendurance.fr/evenement/2451/
ATTACH;FMTTYPE=image/jpeg:https://teamprovenceendurance.fr/wp-content/uploads/2017/11/10km-V.jpg
END:VEVENT
BEGIN:VEVENT
DTSTART;TZID=Europe/Paris:20171119T073000
DTEND;TZID=Europe/Paris:20171119T163000
DTSTAMP:20260422T051538
CREATED:20171114T143106Z
LAST-MODIFIED:20171114T143106Z
UID:2467-1511076600-1511109000@teamprovenceendurance.fr
SUMMARY:Le Défi des Plages
DESCRIPTION:Mathier RUSSIER  sur le 20 Km et Guilhem GERARD sur le 10 km
URL:https://teamprovenceendurance.fr/evenement/le-defi-des-plages/
ATTACH;FMTTYPE=image/jpeg:https://teamprovenceendurance.fr/wp-content/uploads/2017/11/Le-défi-des-plages.jpg
END:VEVENT
BEGIN:VEVENT
DTSTART;TZID=Europe/Paris:20171126T070000
DTEND;TZID=Europe/Paris:20171126T170000
DTSTAMP:20260422T051538
CREATED:20171114T143822Z
LAST-MODIFIED:20171114T143822Z
UID:2469-1511679600-1511715600@teamprovenceendurance.fr
SUMMARY:Trail de Figuerolles
DESCRIPTION:Mathis BONDURAND sera sur le Trail de 25 km \nGuilhem GERARD et Romain DURY seront sur la course nature de 10km \net \nOlivia POIRIER-SANTIAGO sera au départ de la marche .
URL:https://teamprovenceendurance.fr/evenement/trail-de-figuerolles/
ATTACH;FMTTYPE=image/jpeg:https://teamprovenceendurance.fr/wp-content/uploads/2017/11/trail-Figuerolles.jpg
END:VEVENT
END:VCALENDAR