BEGIN:VCALENDAR
VERSION:2.0
PRODID:-//Team Provence Endurance - ECPv6.15.20//NONSGML v1.0//EN
CALSCALE:GREGORIAN
METHOD:PUBLISH
X-ORIGINAL-URL:https://teamprovenceendurance.fr
X-WR-CALDESC:Évènements pour Team Provence Endurance
REFRESH-INTERVAL;VALUE=DURATION:PT1H
X-Robots-Tag:noindex
X-PUBLISHED-TTL:PT1H
BEGIN:VTIMEZONE
TZID:Europe/Paris
BEGIN:DAYLIGHT
TZOFFSETFROM:+0100
TZOFFSETTO:+0200
TZNAME:CEST
DTSTART:20170326T010000
END:DAYLIGHT
BEGIN:STANDARD
TZOFFSETFROM:+0200
TZOFFSETTO:+0100
TZNAME:CET
DTSTART:20171029T010000
END:STANDARD
BEGIN:DAYLIGHT
TZOFFSETFROM:+0100
TZOFFSETTO:+0200
TZNAME:CEST
DTSTART:20180325T010000
END:DAYLIGHT
BEGIN:STANDARD
TZOFFSETFROM:+0200
TZOFFSETTO:+0100
TZNAME:CET
DTSTART:20181028T010000
END:STANDARD
BEGIN:DAYLIGHT
TZOFFSETFROM:+0100
TZOFFSETTO:+0200
TZNAME:CEST
DTSTART:20190331T010000
END:DAYLIGHT
BEGIN:STANDARD
TZOFFSETFROM:+0200
TZOFFSETTO:+0100
TZNAME:CET
DTSTART:20191027T010000
END:STANDARD
END:VTIMEZONE
BEGIN:VEVENT
DTSTART;TZID=Europe/Paris:20180128T073000
DTEND;TZID=Europe/Paris:20180128T170000
DTSTAMP:20260422T011906
CREATED:20180122T090739Z
LAST-MODIFIED:20180123T104217Z
UID:2720-1517124600-1517158800@teamprovenceendurance.fr
SUMMARY:Cross Régional à Miramas
DESCRIPTION:Espoirs/Seniors :\nHugo Viort\nNicolas Debruc \nJuniors :\nClément Bondurand\nMatis Bondurand\nPeïo Komino
URL:https://teamprovenceendurance.fr/evenement/cross-regional-de-miramas/
END:VEVENT
BEGIN:VEVENT
DTSTART;TZID=Europe/Paris:20180128T080000
DTEND;TZID=Europe/Paris:20180128T133000
DTSTAMP:20260422T011906
CREATED:20180122T090521Z
LAST-MODIFIED:20180123T104339Z
UID:2717-1517126400-1517146200@teamprovenceendurance.fr
SUMMARY:Trail de la Galinette à Cadolive
DESCRIPTION:13km :\nHugo Deck \n25km :\nSébastien Vivier
URL:https://teamprovenceendurance.fr/evenement/galinette-a-cadolive/
ATTACH;FMTTYPE=image/png:https://teamprovenceendurance.fr/wp-content/uploads/2018/01/bis.png
END:VEVENT
END:VCALENDAR