BEGIN:VCALENDAR
VERSION:2.0
PRODID:-//Team Provence Endurance - ECPv6.15.20//NONSGML v1.0//EN
CALSCALE:GREGORIAN
METHOD:PUBLISH
X-ORIGINAL-URL:https://teamprovenceendurance.fr
X-WR-CALDESC:Évènements pour Team Provence Endurance
REFRESH-INTERVAL;VALUE=DURATION:PT1H
X-Robots-Tag:noindex
X-PUBLISHED-TTL:PT1H
BEGIN:VTIMEZONE
TZID:Europe/Paris
BEGIN:DAYLIGHT
TZOFFSETFROM:+0100
TZOFFSETTO:+0200
TZNAME:CEST
DTSTART:20170326T010000
END:DAYLIGHT
BEGIN:STANDARD
TZOFFSETFROM:+0200
TZOFFSETTO:+0100
TZNAME:CET
DTSTART:20171029T010000
END:STANDARD
BEGIN:DAYLIGHT
TZOFFSETFROM:+0100
TZOFFSETTO:+0200
TZNAME:CEST
DTSTART:20180325T010000
END:DAYLIGHT
BEGIN:STANDARD
TZOFFSETFROM:+0200
TZOFFSETTO:+0100
TZNAME:CET
DTSTART:20181028T010000
END:STANDARD
BEGIN:DAYLIGHT
TZOFFSETFROM:+0100
TZOFFSETTO:+0200
TZNAME:CEST
DTSTART:20190331T010000
END:DAYLIGHT
BEGIN:STANDARD
TZOFFSETFROM:+0200
TZOFFSETTO:+0100
TZNAME:CET
DTSTART:20191027T010000
END:STANDARD
END:VTIMEZONE
BEGIN:VEVENT
DTSTART;TZID=Europe/Paris:20180304T080000
DTEND;TZID=Europe/Paris:20180304T170000
DTSTAMP:20260421T203913
CREATED:20180122T093826Z
LAST-MODIFIED:20180122T093826Z
UID:2743-1520150400-1520182800@teamprovenceendurance.fr
SUMMARY:Championnats Provence Trail  à Septèmes les Vallons
DESCRIPTION:
URL:https://teamprovenceendurance.fr/evenement/championnats-provence-trail-a-septemes-vallons/
END:VEVENT
BEGIN:VEVENT
DTSTART;TZID=Europe/Paris:20180311T080000
DTEND;TZID=Europe/Paris:20180311T130000
DTSTAMP:20260421T203913
CREATED:20180227T134134Z
LAST-MODIFIED:20180227T152927Z
UID:2987-1520755200-1520773200@teamprovenceendurance.fr
SUMMARY:Trail des 6 collines
DESCRIPTION:Avec 3 distances : 8\, 14\,5 et 20 et comptant pour différents challenges (Maritima\, Trails Sud Est et Cepac)\, le Trail des 6 collines devient un des rendez vous incontournables du mois de Mars en Provence. \nNombreux seront nos coureurs au départ sur chaque distance !
URL:https://teamprovenceendurance.fr/evenement/trail-6-collines-2/
LOCATION:Cabriès\, Cabriès\, France
ATTACH;FMTTYPE=image/jpeg:https://teamprovenceendurance.fr/wp-content/uploads/2018/02/27500750_925012944320957_2602062666540453256_o.jpg
END:VEVENT
BEGIN:VEVENT
DTSTART;TZID=Europe/Paris:20180318T080000
DTEND;TZID=Europe/Paris:20180318T143000
DTSTAMP:20260421T203913
CREATED:20180313T085120Z
LAST-MODIFIED:20180313T085120Z
UID:3069-1521360000-1521383400@teamprovenceendurance.fr
SUMMARY:Souvenir Jean Moulin
DESCRIPTION:A Salon de Provence\, nouvelle manche du Challenge Terre de Mistral avec 7\,5 et 19km ! \n 
URL:https://teamprovenceendurance.fr/evenement/souvenir-jean-moulin-2/
LOCATION:salon\, salon de provence\, France
ATTACH;FMTTYPE=image/jpeg:https://teamprovenceendurance.fr/wp-content/uploads/2018/03/1515707687.jpg
END:VEVENT
BEGIN:VEVENT
DTSTART;TZID=Europe/Paris:20180318T080000
DTEND;TZID=Europe/Paris:20180318T170000
DTSTAMP:20260421T203913
CREATED:20180122T094359Z
LAST-MODIFIED:20180122T094359Z
UID:2748-1521360000-1521392400@teamprovenceendurance.fr
SUMMARY:Trail du Ventoux
DESCRIPTION:Maxime Sauve\, Matis Bondurand et Joël Artieri
URL:https://teamprovenceendurance.fr/evenement/trail-du-ventoux-2/
ATTACH;FMTTYPE=image/jpeg:https://teamprovenceendurance.fr/wp-content/uploads/2018/01/Ventoux.jpg
END:VEVENT
BEGIN:VEVENT
DTSTART;TZID=Europe/Paris:20180324T073000
DTEND;TZID=Europe/Paris:20180324T183000
DTSTAMP:20260421T203913
CREATED:20180122T094922Z
LAST-MODIFIED:20180123T092253Z
UID:2752-1521876600-1521916200@teamprovenceendurance.fr
SUMMARY:Semi Marathon et Marathon de Bordeaux
DESCRIPTION:Au départ du Semi :\nRenaud Galliné\,\nFranck et Aurélie Guerra\,\nNicolas Debruc\,\nMathieu Russier\,\nSylvain Caput \nAu départ du Marathon :\nNicolas Delmi-Deyirmendjian
URL:https://teamprovenceendurance.fr/evenement/semi-marathon-marathon-de-bordeaux/
ATTACH;FMTTYPE=image/jpeg:https://teamprovenceendurance.fr/wp-content/uploads/2018/01/Bordeaux-1515491751.jpg
END:VEVENT
END:VCALENDAR