BEGIN:VCALENDAR
VERSION:2.0
PRODID:-//Team Provence Endurance - ECPv6.15.20//NONSGML v1.0//EN
CALSCALE:GREGORIAN
METHOD:PUBLISH
X-WR-CALNAME:Team Provence Endurance
X-ORIGINAL-URL:https://teamprovenceendurance.fr
X-WR-CALDESC:Évènements pour Team Provence Endurance
REFRESH-INTERVAL;VALUE=DURATION:PT1H
X-Robots-Tag:noindex
X-PUBLISHED-TTL:PT1H
BEGIN:VTIMEZONE
TZID:Europe/Paris
BEGIN:DAYLIGHT
TZOFFSETFROM:+0100
TZOFFSETTO:+0200
TZNAME:CEST
DTSTART:20170326T010000
END:DAYLIGHT
BEGIN:STANDARD
TZOFFSETFROM:+0200
TZOFFSETTO:+0100
TZNAME:CET
DTSTART:20171029T010000
END:STANDARD
BEGIN:DAYLIGHT
TZOFFSETFROM:+0100
TZOFFSETTO:+0200
TZNAME:CEST
DTSTART:20180325T010000
END:DAYLIGHT
BEGIN:STANDARD
TZOFFSETFROM:+0200
TZOFFSETTO:+0100
TZNAME:CET
DTSTART:20181028T010000
END:STANDARD
BEGIN:DAYLIGHT
TZOFFSETFROM:+0100
TZOFFSETTO:+0200
TZNAME:CEST
DTSTART:20190331T010000
END:DAYLIGHT
BEGIN:STANDARD
TZOFFSETFROM:+0200
TZOFFSETTO:+0100
TZNAME:CET
DTSTART:20191027T010000
END:STANDARD
END:VTIMEZONE
BEGIN:VEVENT
DTSTART;TZID=Europe/Paris:20180506T063000
DTEND;TZID=Europe/Paris:20180506T190000
DTSTAMP:20260421T163655
CREATED:20180122T095719Z
LAST-MODIFIED:20180123T091132Z
UID:2761-1525588200-1525633200@teamprovenceendurance.fr
SUMMARY:Ascension du Col de Vence
DESCRIPTION:1ere Manche du Challenge National Junior\, nous irons en terres Azuréennes avec nos jeunes pour lancer les hostilités nationales !
URL:https://teamprovenceendurance.fr/evenement/trail-col-de-vence/
ATTACH;FMTTYPE=image/jpeg:https://teamprovenceendurance.fr/wp-content/uploads/2018/01/coldevenceaffiche.jpg
END:VEVENT
BEGIN:VEVENT
DTSTART;TZID=Europe/Paris:20180506T080000
DTEND;TZID=Europe/Paris:20180506T160000
DTSTAMP:20260421T163655
CREATED:20180502T092519Z
LAST-MODIFIED:20180502T092519Z
UID:3248-1525593600-1525622400@teamprovenceendurance.fr
SUMMARY:La Draille de Mourre Poussiou
DESCRIPTION:Seront au départ  : Gilhem Gérard\, Peïo Komino\, David Dury\, Nicolas Debruc et Benoît Lemay
URL:https://teamprovenceendurance.fr/evenement/draille-de-mourre-poussiou-2/
ATTACH;FMTTYPE=image/jpeg:https://teamprovenceendurance.fr/wp-content/uploads/2018/05/fos.jpg
END:VEVENT
BEGIN:VEVENT
DTSTART;TZID=Europe/Paris:20180510T080000
DTEND;TZID=Europe/Paris:20180510T123000
DTSTAMP:20260421T163655
CREATED:20180507T213724Z
LAST-MODIFIED:20180507T213724Z
UID:3291-1525939200-1525955400@teamprovenceendurance.fr
SUMMARY:Ronde de la Touloubre
DESCRIPTION:Course du Challenge Terre de Mistral à Grans avec 2 distances : 7\,5 et 15km \nAu départ : \n\nGuilhem Gérard\nDavid Dury\nCyril Comtat\nMarine Siderakis\nFrederic Palmer\nMyriam Hragua\nMaxime Jacques
URL:https://teamprovenceendurance.fr/evenement/ronde-de-touloubre/
LOCATION:grans\, Grans
END:VEVENT
BEGIN:VEVENT
DTSTART;TZID=Europe/Paris:20180511T070000
DTEND;TZID=Europe/Paris:20180513T170000
DTSTAMP:20260421T163655
CREATED:20180502T092927Z
LAST-MODIFIED:20180502T092927Z
UID:3252-1526022000-1526230800@teamprovenceendurance.fr
SUMMARY:Trail de Haute Provence
DESCRIPTION:Franck et Aurélie Guerra seront sur le Duo nocturne \nNicolas Delmi-Deyirmendjian fera le 16km le samedi et 27km le dimanche
URL:https://teamprovenceendurance.fr/evenement/trail-de-haute-provence/
ATTACH;FMTTYPE=image/png:https://teamprovenceendurance.fr/wp-content/uploads/2018/05/Flyer-Trail-haute-provence-2018.png
END:VEVENT
BEGIN:VEVENT
DTSTART;TZID=Europe/Paris:20180519T080000
DTEND;TZID=Europe/Paris:20180520T170000
DTSTAMP:20260421T163655
CREATED:20180502T093606Z
LAST-MODIFIED:20180502T093606Z
UID:3254-1526716800-1526835600@teamprovenceendurance.fr
SUMMARY:Duo de l'Hermitage
DESCRIPTION:Au départ : \nEdouard Laudier/Matis Bondurand \nJérome Lassale/?? \nNicolas Delmi-Deyirmendjian/Rémy Maumus \nMarine Sidérakis/Fred Palmer \nBenoit Lemay/ Matthieu Russier \nMartin Lang
URL:https://teamprovenceendurance.fr/evenement/duo-de-lhermitage-2/
ATTACH;FMTTYPE=image/jpeg:https://teamprovenceendurance.fr/wp-content/uploads/2018/05/duo-de-lhermitage.jpg
END:VEVENT
BEGIN:VEVENT
DTSTART;TZID=Europe/Paris:20180526T170000
DTEND;TZID=Europe/Paris:20180526T203000
DTSTAMP:20260421T163655
CREATED:20180522T093442Z
LAST-MODIFIED:20180522T112529Z
UID:3410-1527354000-1527366600@teamprovenceendurance.fr
SUMMARY:Martigues Carro
DESCRIPTION:Classique sur route des bouches du rhone\, cette course de 13Km réunira comme tous les ans un très beau plateau\, y compris parmi nos athlètes : \n\nDavid Dury\nMathieu Russier\nJérémie Carabasse\nBenoit Lemay\nSebastien Tertrais\nEmilie Di Domenico\nFred Lemarchand\nClément Bondurand
URL:https://teamprovenceendurance.fr/evenement/martigues-carro-2/
LOCATION:Martigues\, Martigues\, France
ATTACH;FMTTYPE=image/jpeg:https://teamprovenceendurance.fr/wp-content/uploads/2018/05/jsd-course-sur-route-201858.jpg
END:VEVENT
BEGIN:VEVENT
DTSTART;TZID=Europe/Paris:20180527T080000
DTEND;TZID=Europe/Paris:20180527T170000
DTSTAMP:20260421T163655
CREATED:20180502T091946Z
LAST-MODIFIED:20180522T111507Z
UID:3245-1527408000-1527440400@teamprovenceendurance.fr
SUMMARY:Vallespir Skyrace à Amélie les Bains
DESCRIPTION:Céline Lafaye et Edouard Laudier seront au départ.
URL:https://teamprovenceendurance.fr/evenement/vallespir-skyrace-a-amelie-bains/
ATTACH;FMTTYPE=image/jpeg:https://teamprovenceendurance.fr/wp-content/uploads/2018/05/vallespir-skyrace.jpg
END:VEVENT
END:VCALENDAR